BEGIN:VCALENDAR
VERSION:2.0
PRODID:-//hacksw/handcal//NONSGML v1.0//EN
BEGIN:VEVENT
UID:7299
DTSTART;VALUE=DATE:20161126
URL;VALUE=URI:ohschonhell.at/?page_id=14118
SUMMARY:ACTA AGERE vol. XVII
LOCATION:DUAL
END:VEVENT
END:VCALENDAR


