BEGIN:VCALENDAR
VERSION:2.0
PRODID:-//hacksw/handcal//NONSGML v1.0//EN
BEGIN:VEVENT
UID:7314
DTSTART;VALUE=DATE:20161208
URL;VALUE=URI:ohschonhell.at/?page_id=14149
SUMMARY:Donnerstag Nacht hosted by Musical Collective
LOCATION:SASS
END:VEVENT
END:VCALENDAR


