BEGIN:VCALENDAR
VERSION:2.0
PRODID:-//hacksw/handcal//NONSGML v1.0//EN
BEGIN:VEVENT
UID:7331
DTSTART;VALUE=DATE:20161210
URL;VALUE=URI:ohschonhell.at/?page_id=14187
SUMMARY:Opera Clubbing Tech-House meet`s Techno Caesaris B-Day Special
LOCATION:OPERA CLUB
END:VEVENT
END:VCALENDAR


