BEGIN:VCALENDAR
VERSION:2.0
PRODID:-//hacksw/handcal//NONSGML v1.0//EN
BEGIN:VEVENT
UID:734
DTSTART;VALUE=DATE:20140222
URL;VALUE=URI:ohschonhell.at/?page_id=3193
SUMMARY:Zero gravity´s tripudium special
LOCATION:FLEX CAFE
END:VEVENT
END:VCALENDAR


