BEGIN:VCALENDAR
VERSION:2.0
PRODID:-//hacksw/handcal//NONSGML v1.0//EN
BEGIN:VEVENT
UID:7343
DTSTART;VALUE=DATE:20161203
URL;VALUE=URI:ohschonhell.at/?page_id=14216
SUMMARY:WTF-Afterhour- Rabo\, Dan Bog\, Der Hutmacher und Traumata
LOCATION:Cafe Club Belami
END:VEVENT
END:VCALENDAR


