BEGIN:VCALENDAR
VERSION:2.0
PRODID:-//hacksw/handcal//NONSGML v1.0//EN
BEGIN:VEVENT
UID:7362
DTSTART;VALUE=DATE:20161210
URL;VALUE=URI:ohschonhell.at/?page_id=14272
SUMMARY:Laissez-Faire
LOCATION:DUAL
END:VEVENT
END:VCALENDAR


