BEGIN:VCALENDAR
VERSION:2.0
PRODID:-//hacksw/handcal//NONSGML v1.0//EN
BEGIN:VEVENT
UID:7363
DTSTART;VALUE=DATE:20161209
URL;VALUE=URI:ohschonhell.at/?page_id=14274
SUMMARY:Wanderlust - Fernwehmucke #1
LOCATION:DUAL
END:VEVENT
END:VCALENDAR


