BEGIN:VCALENDAR
VERSION:2.0
PRODID:-//hacksw/handcal//NONSGML v1.0//EN
BEGIN:VEVENT
UID:7394
DTSTART;VALUE=DATE:20161215
URL;VALUE=URI:ohschonhell.at/?page_id=14345
SUMMARY:Soundterrasse Weihnachtsfeier - Sass Club - Gästeliste
LOCATION:SASS
END:VEVENT
END:VCALENDAR


