BEGIN:VCALENDAR
VERSION:2.0
PRODID:-//hacksw/handcal//NONSGML v1.0//EN
BEGIN:VEVENT
UID:7400
DTSTART;VALUE=DATE:20170113
URL;VALUE=URI:ohschonhell.at/?page_id=14362
SUMMARY:CRISPYs go with the FLOW
LOCATION:Event Arena Vösendorf
END:VEVENT
END:VCALENDAR


