BEGIN:VCALENDAR
VERSION:2.0
PRODID:-//hacksw/handcal//NONSGML v1.0//EN
BEGIN:VEVENT
UID:7425
DTSTART;VALUE=DATE:20161216
URL;VALUE=URI:ohschonhell.at/?page_id=14414
SUMMARY:Goa vs Techno ◄► B-Bash ◄► Freier Eintritt
LOCATION:CAFE DERWISCH
END:VEVENT
END:VCALENDAR


