BEGIN:VCALENDAR
VERSION:2.0
PRODID:-//hacksw/handcal//NONSGML v1.0//EN
BEGIN:VEVENT
UID:7447
DTSTART;VALUE=DATE:20161225
URL;VALUE=URI:ohschonhell.at/?page_id=14468
SUMMARY:Acid Bells XXV
LOCATION:ELEKTRO GÖNNER
END:VEVENT
END:VCALENDAR


