BEGIN:VCALENDAR
VERSION:2.0
PRODID:-//hacksw/handcal//NONSGML v1.0//EN
BEGIN:VEVENT
UID:7472
DTSTART;VALUE=DATE:20161230
URL;VALUE=URI:ohschonhell.at/?page_id=14538
SUMMARY:#4 blckthy
LOCATION:GOODMAN
END:VEVENT
END:VCALENDAR


