BEGIN:VCALENDAR
VERSION:2.0
PRODID:-//hacksw/handcal//NONSGML v1.0//EN
BEGIN:VEVENT
UID:7476
DTSTART;VALUE=DATE:20170105
URL;VALUE=URI:ohschonhell.at/?page_id=14554
SUMMARY:Journey to Tarab | The Dragonfly
LOCATION:Kramladen
END:VEVENT
END:VCALENDAR


