BEGIN:VCALENDAR
VERSION:2.0
PRODID:-//hacksw/handcal//NONSGML v1.0//EN
BEGIN:VEVENT
UID:7490
DTSTART;VALUE=DATE:20170105
URL;VALUE=URI:ohschonhell.at/?page_id=14586
SUMMARY:G.SPOT - Happy New Year Party
LOCATION:AUSLAGE
END:VEVENT
END:VCALENDAR


