BEGIN:VCALENDAR
VERSION:2.0
PRODID:-//hacksw/handcal//NONSGML v1.0//EN
BEGIN:VEVENT
UID:7503
DTSTART;VALUE=DATE:20170108
URL;VALUE=URI:ohschonhell.at/?page_id=14621
SUMMARY:WTF presents: PUSH 4 TEC Afterhour
LOCATION:Cafe Club Belami
END:VEVENT
END:VCALENDAR


