BEGIN:VCALENDAR
VERSION:2.0
PRODID:-//hacksw/handcal//NONSGML v1.0//EN
BEGIN:VEVENT
UID:7508
DTSTART;VALUE=DATE:20170114
URL;VALUE=URI:ohschonhell.at/?page_id=14634
SUMMARY:Laissez-Faire
LOCATION:DUAL
END:VEVENT
END:VCALENDAR


