BEGIN:VCALENDAR
VERSION:2.0
PRODID:-//hacksw/handcal//NONSGML v1.0//EN
BEGIN:VEVENT
UID:7522
DTSTART;VALUE=DATE:20170120
URL;VALUE=URI:ohschonhell.at/?page_id=14665
SUMMARY:S K U L L D I S C O ►issue #18
LOCATION:DUAL
END:VEVENT
END:VCALENDAR


