BEGIN:VCALENDAR
VERSION:2.0
PRODID:-//hacksw/handcal//NONSGML v1.0//EN
BEGIN:VEVENT
UID:7531
DTSTART;VALUE=DATE:20170317
URL;VALUE=URI:ohschonhell.at/?page_id=14688
SUMMARY:Insomnia pres. Droplex at The Palace Vienna 17.03 Freitag!
LOCATION:MARX PALAST
END:VEVENT
END:VCALENDAR


