BEGIN:VCALENDAR
VERSION:2.0
PRODID:-//hacksw/handcal//NONSGML v1.0//EN
BEGIN:VEVENT
UID:7535
DTSTART;VALUE=DATE:20170128
URL;VALUE=URI:ohschonhell.at/?page_id=14696
SUMMARY:ClassiX mit DJ Tomcraft - Marx Halle
LOCATION:Marx Project
END:VEVENT
END:VCALENDAR


