BEGIN:VCALENDAR
VERSION:2.0
PRODID:-//hacksw/handcal//NONSGML v1.0//EN
BEGIN:VEVENT
UID:7539
DTSTART;VALUE=DATE:20170113
URL;VALUE=URI:ohschonhell.at/?page_id=14704
SUMMARY:Kunterbunt Love and Unity Festival
LOCATION:CHAYA FUERA
END:VEVENT
END:VCALENDAR


