BEGIN:VCALENDAR
VERSION:2.0
PRODID:-//hacksw/handcal//NONSGML v1.0//EN
BEGIN:VEVENT
UID:7542
DTSTART;VALUE=DATE:20170114
URL;VALUE=URI:ohschonhell.at/?page_id=14714
SUMMARY:WTF- Afterhour: Sounds of Krafted Release-Party
LOCATION:Cafe Club Belami
END:VEVENT
END:VCALENDAR


