BEGIN:VCALENDAR
VERSION:2.0
PRODID:-//hacksw/handcal//NONSGML v1.0//EN
BEGIN:VEVENT
UID:7563
DTSTART;VALUE=DATE:20170208
URL;VALUE=URI:ohschonhell.at/?page_id=14769
SUMMARY:David &amp\; Goliath: Down an einem wundersamen Ort
LOCATION:Kramladen
END:VEVENT
END:VCALENDAR


