BEGIN:VCALENDAR
VERSION:2.0
PRODID:-//hacksw/handcal//NONSGML v1.0//EN
BEGIN:VEVENT
UID:7564
DTSTART;VALUE=DATE:20170203
URL;VALUE=URI:ohschonhell.at/?page_id=14771
SUMMARY:Goodman | hosted by ehrlich Techno
LOCATION:GOODMAN
END:VEVENT
END:VCALENDAR


