BEGIN:VCALENDAR
VERSION:2.0
PRODID:-//hacksw/handcal//NONSGML v1.0//EN
BEGIN:VEVENT
UID:7568
DTSTART;VALUE=DATE:20170120
URL;VALUE=URI:ohschonhell.at/?page_id=14779
SUMMARY:Electric Garden Opening /w Möwe - Chaya Fuera
LOCATION:CHAYA FUERA
END:VEVENT
END:VCALENDAR


