BEGIN:VCALENDAR
VERSION:2.0
PRODID:-//hacksw/handcal//NONSGML v1.0//EN
BEGIN:VEVENT
UID:7572
DTSTART;VALUE=DATE:20170120
URL;VALUE=URI:ohschonhell.at/?page_id=14791
SUMMARY:Joe-Joe&#039\;s birthday bash
LOCATION:ROXY CLUB
END:VEVENT
END:VCALENDAR


