BEGIN:VCALENDAR
VERSION:2.0
PRODID:-//hacksw/handcal//NONSGML v1.0//EN
BEGIN:VEVENT
UID:7575
DTSTART;VALUE=DATE:20170126
URL;VALUE=URI:ohschonhell.at/?page_id=14799
SUMMARY:RBMA Junge Roemer - Modeselektor\, Minisex\, Flut\, uvm
LOCATION:U4
END:VEVENT
END:VCALENDAR


