BEGIN:VCALENDAR
VERSION:2.0
PRODID:-//hacksw/handcal//NONSGML v1.0//EN
BEGIN:VEVENT
UID:7579
DTSTART;VALUE=DATE:20170121
URL;VALUE=URI:ohschonhell.at/?page_id=14809
SUMMARY:Lose Yourself to Dance
LOCATION:Kramladen
END:VEVENT
END:VCALENDAR


