BEGIN:VCALENDAR
VERSION:2.0
PRODID:-//hacksw/handcal//NONSGML v1.0//EN
BEGIN:VEVENT
UID:7580
DTSTART;VALUE=DATE:20170121
URL;VALUE=URI:ohschonhell.at/?page_id=14811
SUMMARY:Masters of Hardcore - The Austrian Awakening
LOCATION:Marx Project
END:VEVENT
END:VCALENDAR


