BEGIN:VCALENDAR
VERSION:2.0
PRODID:-//hacksw/handcal//NONSGML v1.0//EN
BEGIN:VEVENT
UID:7583
DTSTART;VALUE=DATE:20170204
URL;VALUE=URI:ohschonhell.at/?page_id=14823
SUMMARY:Journey to Tarab w/ Schlepp Geist (live) | The Ghost
LOCATION:AUSLAGE
END:VEVENT
END:VCALENDAR


