BEGIN:VCALENDAR
VERSION:2.0
PRODID:-//hacksw/handcal//NONSGML v1.0//EN
BEGIN:VEVENT
UID:7585
DTSTART;VALUE=DATE:20170128
URL;VALUE=URI:ohschonhell.at/?page_id=14829
SUMMARY:Raster
LOCATION:DUAL
END:VEVENT
END:VCALENDAR


