BEGIN:VCALENDAR
VERSION:2.0
PRODID:-//hacksw/handcal//NONSGML v1.0//EN
BEGIN:VEVENT
UID:7591
DTSTART;VALUE=DATE:20170223
URL;VALUE=URI:ohschonhell.at/?page_id=14852
SUMMARY:The xx - I See You Tour: Vienna/AT // Sold Out
LOCATION:Marx Project
END:VEVENT
END:VCALENDAR


