BEGIN:VCALENDAR
VERSION:2.0
PRODID:-//hacksw/handcal//NONSGML v1.0//EN
BEGIN:VEVENT
UID:7597
DTSTART;VALUE=DATE:20170202
URL;VALUE=URI:ohschonhell.at/?page_id=14866
SUMMARY:SEH MA SICH im Sass
LOCATION:SASS
END:VEVENT
END:VCALENDAR


