BEGIN:VCALENDAR
VERSION:2.0
PRODID:-//hacksw/handcal//NONSGML v1.0//EN
BEGIN:VEVENT
UID:7634
DTSTART;VALUE=DATE:20170211
URL;VALUE=URI:ohschonhell.at/?page_id=14974
SUMMARY:Laissez-Faire | Year Two
LOCATION:DUAL
END:VEVENT
END:VCALENDAR


