BEGIN:VCALENDAR
VERSION:2.0
PRODID:-//hacksw/handcal//NONSGML v1.0//EN
BEGIN:VEVENT
UID:7640
DTSTART;VALUE=DATE:20170202
URL;VALUE=URI:ohschonhell.at/?page_id=14990
SUMMARY:DeeperThanYou
LOCATION:ELEKTRO GÖNNER
END:VEVENT
END:VCALENDAR


