BEGIN:VCALENDAR
VERSION:2.0
PRODID:-//hacksw/handcal//NONSGML v1.0//EN
BEGIN:VEVENT
UID:7648
DTSTART;VALUE=DATE:20170211
URL;VALUE=URI:ohschonhell.at/?page_id=15024
SUMMARY:Techno im Venster #2
LOCATION:VENSTER 99
END:VEVENT
END:VCALENDAR


