BEGIN:VCALENDAR
VERSION:2.0
PRODID:-//hacksw/handcal//NONSGML v1.0//EN
BEGIN:VEVENT
UID:7657
DTSTART;VALUE=DATE:20170222
URL;VALUE=URI:ohschonhell.at/?page_id=15058
SUMMARY:David &amp\; Goliath: Alex Eigner mit Rauschebart
LOCATION:Kramladen
END:VEVENT
END:VCALENDAR


