BEGIN:VCALENDAR
VERSION:2.0
PRODID:-//hacksw/handcal//NONSGML v1.0//EN
BEGIN:VEVENT
UID:766
DTSTART;VALUE=DATE:20140304
URL;VALUE=URI:ohschonhell.at/?page_id=3225
SUMMARY:RAMBAZAMBA CAMPUS - FASCHING
LOCATION:CAMERA CLUB
END:VEVENT
END:VCALENDAR


