BEGIN:VCALENDAR
VERSION:2.0
PRODID:-//hacksw/handcal//NONSGML v1.0//EN
BEGIN:VEVENT
UID:7675
DTSTART;VALUE=DATE:20170210
URL;VALUE=URI:ohschonhell.at/?page_id=15113
SUMMARY:Ashida Park II Galtier + Bean (EP release)
LOCATION:CLUB TITANIC
END:VEVENT
END:VCALENDAR


