BEGIN:VCALENDAR
VERSION:2.0
PRODID:-//hacksw/handcal//NONSGML v1.0//EN
BEGIN:VEVENT
UID:7682
DTSTART;VALUE=DATE:20170210
URL;VALUE=URI:ohschonhell.at/?page_id=15143
SUMMARY:Stadt Land Fluss
LOCATION:ELEKTRO GÖNNER
END:VEVENT
END:VCALENDAR


