BEGIN:VCALENDAR
VERSION:2.0
PRODID:-//hacksw/handcal//NONSGML v1.0//EN
BEGIN:VEVENT
UID:7691
DTSTART;VALUE=DATE:20170211
URL;VALUE=URI:ohschonhell.at/?page_id=15180
SUMMARY:Descending Rays | Wosto (Fallbeil / Sign Bit Zero)
LOCATION:HEUER AM KARLSPLATZ
END:VEVENT
END:VCALENDAR


