BEGIN:VCALENDAR
VERSION:2.0
PRODID:-//hacksw/handcal//NONSGML v1.0//EN
BEGIN:VEVENT
UID:7701
DTSTART;VALUE=DATE:20170317
URL;VALUE=URI:ohschonhell.at/?page_id=15218
SUMMARY:Evren da Conceição&#039\;s B-day Crash
LOCATION:ELEKTRO GÖNNER
END:VEVENT
END:VCALENDAR


