BEGIN:VCALENDAR
VERSION:2.0
PRODID:-//hacksw/handcal//NONSGML v1.0//EN
BEGIN:VEVENT
UID:7708
DTSTART;VALUE=DATE:20170223
URL;VALUE=URI:ohschonhell.at/?page_id=15232
SUMMARY:Live Electronics / Evren da Conceição + Anthony K // Eizi Ho
LOCATION:ELEKTRO GÖNNER
END:VEVENT
END:VCALENDAR


