BEGIN:VCALENDAR
VERSION:2.0
PRODID:-//hacksw/handcal//NONSGML v1.0//EN
BEGIN:VEVENT
UID:7710
DTSTART;VALUE=DATE:20170218
URL;VALUE=URI:ohschonhell.at/?page_id=15236
SUMMARY:Exit Techno
LOCATION:CAFE DERWISCH
END:VEVENT
END:VCALENDAR


