BEGIN:VCALENDAR
VERSION:2.0
PRODID:-//hacksw/handcal//NONSGML v1.0//EN
BEGIN:VEVENT
UID:773
DTSTART;VALUE=DATE:20140315
URL;VALUE=URI:ohschonhell.at/?page_id=3232
SUMMARY:35 Grad GLITZERDISKO #2 w/THE GLITZ
LOCATION:AUSLAGE
END:VEVENT
END:VCALENDAR


