BEGIN:VCALENDAR
VERSION:2.0
PRODID:-//hacksw/handcal//NONSGML v1.0//EN
BEGIN:VEVENT
UID:7747
DTSTART;VALUE=DATE:20170217
URL;VALUE=URI:ohschonhell.at/?page_id=15320
SUMMARY:Moogle &amp\; Laminat - Total 1
LOCATION:ELEKTRO GÖNNER
END:VEVENT
END:VCALENDAR


