BEGIN:VCALENDAR
VERSION:2.0
PRODID:-//hacksw/handcal//NONSGML v1.0//EN
BEGIN:VEVENT
UID:7749
DTSTART;VALUE=DATE:20170302
URL;VALUE=URI:ohschonhell.at/?page_id=15329
SUMMARY:Out Of Space Psytrance Club // Do 2.3. Weberknecht
LOCATION:WEBERKNECHT
END:VEVENT
END:VCALENDAR


