BEGIN:VCALENDAR
VERSION:2.0
PRODID:-//hacksw/handcal//NONSGML v1.0//EN
BEGIN:VEVENT
UID:7752
DTSTART;VALUE=DATE:20170324
URL;VALUE=URI:ohschonhell.at/?page_id=15335
SUMMARY:FJU:Variety03 w/ Denis Horvat (AEON/Innervisions)
LOCATION:DUAL
END:VEVENT
END:VCALENDAR


