BEGIN:VCALENDAR
VERSION:2.0
PRODID:-//hacksw/handcal//NONSGML v1.0//EN
BEGIN:VEVENT
UID:776
DTSTART;VALUE=DATE:20140314
URL;VALUE=URI:ohschonhell.at/?page_id=3235
SUMMARY:INTERACTIVE BASE II
LOCATION:CLUB 34
END:VEVENT
END:VCALENDAR


