BEGIN:VCALENDAR
VERSION:2.0
PRODID:-//hacksw/handcal//NONSGML v1.0//EN
BEGIN:VEVENT
UID:7765
DTSTART;VALUE=DATE:20170221
URL;VALUE=URI:ohschonhell.at/?page_id=15363
SUMMARY:Techno Tuesday X Non Funxion
LOCATION:ELEKTRO GÖNNER
END:VEVENT
END:VCALENDAR


