BEGIN:VCALENDAR
VERSION:2.0
PRODID:-//hacksw/handcal//NONSGML v1.0//EN
BEGIN:VEVENT
UID:7801
DTSTART;VALUE=DATE:20170318
URL;VALUE=URI:ohschonhell.at/?page_id=15442
SUMMARY:Subkultur ⚤
LOCATION:Curtain
END:VEVENT
END:VCALENDAR


